BEGIN:VCALENDAR
VERSION:2.0
PRODID:-//eventon.com NONSGML v1.0//EN
CALSCALE:GREGORIAN
METHOD:PUBLISH
BEGIN:VEVENT
UID:69e5eb21d6cd2
DTSTAMP:20260420T090017Z
DTSTART:20161018T000000Z
DTEND:20161018T000000Z
LOCATION:Location to be announced
SUMMARY:Dialogue Forum at Engomi Municipality
DESCRIPTION:Dialogue Forum at Engomi Municipality\nhttps://localintegration
 .eu/events/dialogue-forum-at-engomi-municipality/
URL:https://localintegration.eu/events/dialogue-forum-at-engomi-municipality/
END:VEVENT
END:VCALENDAR