BEGIN:VCALENDAR
VERSION:2.0
PRODID:-//eventon.com NONSGML v1.0//EN
CALSCALE:GREGORIAN
METHOD:PUBLISH
BEGIN:VEVENT
UID:69e5e93dbcd59
DTSTAMP:20260420T085213Z
DTSTART:20160717
DTEND:20160718
LOCATION:
SUMMARY:OPEN INFORMATION OFFICE FOR TCNS AT PLATEIA IPEIROU (SOLOMOU SQ.)
DESCRIPTION:OPEN INFORMATION OFFICE FOR TCNS AT PLATEIA IPEIROU (SOLOMOU SQ
 .)\nhttps://localintegration.eu/events/open-information-office-for-tcns-at-
 plateia-ipeirou-solomou-sq-8/
URL:https://localintegration.eu/events/open-information-office-for-tcns-at-plateia-ipeirou-solomou-sq-8/
END:VEVENT
END:VCALENDAR