BEGIN:VCALENDAR
VERSION:2.0
PRODID:-//eventon.com NONSGML v1.0//EN
CALSCALE:GREGORIAN
METHOD:PUBLISH
BEGIN:VEVENT
UID:69e5f06d89534
DTSTAMP:20260420T092253Z
DTSTART:20160711T070000Z
DTEND:20160715T180000Z
LOCATION:
SUMMARY:FULL DAY SOCIAL CARE SERVICE FOR CHILDREN OF TCNS - AT NICOSIA MUNICIPALITY MULTIFUNCTIONAL FOUNDATION
DESCRIPTION:FULL DAY SOCIAL CARE SERVICE FOR CHILDREN OF TCNS - AT NICOSIA 
 MUNICIPALITY MULTIFUNCTIONAL FOUNDATION\nhttps://localintegration.eu/events
 /full-day-social-care-service-for-children-of-tcns-at-nicosia-municipality-
 multifunctional-foundation-5/
URL:https://localintegration.eu/events/full-day-social-care-service-for-children-of-tcns-at-nicosia-municipality-multifunctional-foundation-5/
END:VEVENT
END:VCALENDAR