BEGIN:VCALENDAR
VERSION:2.0
PRODID:-//eventon.com NONSGML v1.0//EN
CALSCALE:GREGORIAN
METHOD:PUBLISH
BEGIN:VEVENT
UID:69e75bc9d7be4
DTSTAMP:20260421T111313Z
DTSTART:20160507T110000Z
DTEND:20160507T120000Z
LOCATION:
SUMMARY:CALLIGRAPHY / CHINESE ART AT NICOSIA MUNICIPALITY MULITFUNCTIONAL FOUNDATION
DESCRIPTION:CALLIGRAPHY / CHINESE ART AT NICOSIA MUNICIPALITY MULITFUNCTION
 AL FOUNDATION\nhttps://localintegration.eu/events/calligraphy-chinese-art-a
 t-nicosia-municipality-mulitfunctional-foundation-7/
URL:https://localintegration.eu/events/calligraphy-chinese-art-at-nicosia-municipality-mulitfunctional-foundation-7/
END:VEVENT
END:VCALENDAR