BEGIN:VCALENDAR
VERSION:2.0
PRODID:-//eventon.com NONSGML v1.0//EN
CALSCALE:GREGORIAN
METHOD:PUBLISH
BEGIN:VEVENT
UID:69e79b9fa8e5f
DTSTAMP:20260421T154535Z
DTSTART:20161210T090000Z
DTEND:20161210T110000Z
LOCATION:
SUMMARY:CHINESE LANGUAGE AT NICOSIA MUNICIPALITY MULITFUNCTIONAL FOUNDATION
DESCRIPTION:CHINESE LANGUAGE AT NICOSIA MUNICIPALITY MULITFUNCTIONAL FOUNDA
 TION\nhttps://localintegration.eu/events/chinese-language-at-nicosia-munici
 pality-mulitfunctional-foundation-30/
URL:https://localintegration.eu/events/chinese-language-at-nicosia-municipality-mulitfunctional-foundation-30/
END:VEVENT
END:VCALENDAR