BEGIN:VCALENDAR
VERSION:2.0
PRODID:-//eventon.com NONSGML v1.0//EN
CALSCALE:GREGORIAN
METHOD:PUBLISH
BEGIN:VEVENT
UID:69e7c83850f63
DTSTAMP:20260421T185552Z
DTSTART:20161126T090000Z
DTEND:20161126T110000Z
LOCATION:
SUMMARY:CHINESE LANGUAGE AT NICOSIA MUNICIPALITY MULITFUNCTIONAL FOUNDATION
DESCRIPTION:CHINESE LANGUAGE AT NICOSIA MUNICIPALITY MULITFUNCTIONAL FOUNDA
 TION\nhttps://localintegration.eu/events/chinese-language-at-nicosia-munici
 pality-mulitfunctional-foundation-28/
URL:https://localintegration.eu/events/chinese-language-at-nicosia-municipality-mulitfunctional-foundation-28/
END:VEVENT
END:VCALENDAR