BEGIN:VCALENDAR
VERSION:2.0
PRODID:-//eventon.com NONSGML v1.0//EN
CALSCALE:GREGORIAN
METHOD:PUBLISH
BEGIN:VEVENT
UID:69e745d37aa2d
DTSTAMP:20260421T093931Z
DTSTART:20160206T090000Z
DTEND:20160206T110000Z
LOCATION:
SUMMARY:CHINESE LANGUAGE AT NICOSIA MUNICIPALITY MULITFUNCTIONAL FOUNDATION
DESCRIPTION:CHINESE LANGUAGE AT NICOSIA MUNICIPALITY MULITFUNCTIONAL FOUNDA
 TION\nhttps://localintegration.eu/events/chinese-language-at-nicosia-munici
 pality-mulitfunctional-foundation-4/
URL:https://localintegration.eu/events/chinese-language-at-nicosia-municipality-mulitfunctional-foundation-4/
END:VEVENT
END:VCALENDAR