BEGIN:VCALENDAR
VERSION:2.0
PRODID:-//eventon.com NONSGML v1.0//EN
CALSCALE:GREGORIAN
METHOD:PUBLISH
BEGIN:VEVENT
UID:69e74749cd79a
DTSTAMP:20260421T094545Z
DTSTART:20160130T090000Z
DTEND:20160130T110000Z
LOCATION:
SUMMARY:CHINESE LANGUAGE AT NICOSIA MUNICIPALITY MULITFUNCTIONAL FOUNDATION
DESCRIPTION:CHINESE LANGUAGE AT NICOSIA MUNICIPALITY MULITFUNCTIONAL FOUNDA
 TION\nhttps://localintegration.eu/events/chinese-language-at-nicosia-munici
 pality-mulitfunctional-foundation-3/
URL:https://localintegration.eu/events/chinese-language-at-nicosia-municipality-mulitfunctional-foundation-3/
END:VEVENT
END:VCALENDAR